BEGIN:VCALENDAR
VERSION:2.0
PRODID:-//Science Museum Oklahoma - ECPv6.15.18//NONSGML v1.0//EN
CALSCALE:GREGORIAN
METHOD:PUBLISH
X-ORIGINAL-URL:https://www.sciencemuseumok.org
X-WR-CALDESC:Events for Science Museum Oklahoma
REFRESH-INTERVAL;VALUE=DURATION:PT1H
X-Robots-Tag:noindex
X-PUBLISHED-TTL:PT1H
BEGIN:VTIMEZONE
TZID:America/Chicago
BEGIN:DAYLIGHT
TZOFFSETFROM:-0600
TZOFFSETTO:-0500
TZNAME:CDT
DTSTART:20240310T080000
END:DAYLIGHT
BEGIN:STANDARD
TZOFFSETFROM:-0500
TZOFFSETTO:-0600
TZNAME:CST
DTSTART:20241103T070000
END:STANDARD
BEGIN:DAYLIGHT
TZOFFSETFROM:-0600
TZOFFSETTO:-0500
TZNAME:CDT
DTSTART:20250309T080000
END:DAYLIGHT
BEGIN:STANDARD
TZOFFSETFROM:-0500
TZOFFSETTO:-0600
TZNAME:CST
DTSTART:20251102T070000
END:STANDARD
BEGIN:DAYLIGHT
TZOFFSETFROM:-0600
TZOFFSETTO:-0500
TZNAME:CDT
DTSTART:20260308T080000
END:DAYLIGHT
BEGIN:STANDARD
TZOFFSETFROM:-0500
TZOFFSETTO:-0600
TZNAME:CST
DTSTART:20261101T070000
END:STANDARD
BEGIN:DAYLIGHT
TZOFFSETFROM:-0600
TZOFFSETTO:-0500
TZNAME:CDT
DTSTART:20270314T080000
END:DAYLIGHT
BEGIN:STANDARD
TZOFFSETFROM:-0500
TZOFFSETTO:-0600
TZNAME:CST
DTSTART:20271107T070000
END:STANDARD
END:VTIMEZONE
BEGIN:VEVENT
DTSTART;TZID=America/Chicago:20260411T190000
DTEND;TZID=America/Chicago:20260411T220000
DTSTAMP:20260425T140050
CREATED:20260302T120032Z
LAST-MODIFIED:20260306T201258Z
UID:10007896-1775934000-1775944800@www.sciencemuseumok.org
SUMMARY:SMOTeens April 2026
DESCRIPTION:Students in 7th–12th grade are invited to SMOTeens\, a teen-only\, after-hours event at Science Museum Oklahoma planned by our Teen Apprentice Program. \nEnjoy exclusive access to the museum\, including Science Live shows\, Love’s Planetarium screenings\, games\, music\, and more. \nTickets are $20 or $15 for members. Space is limited. \nPurchase tickets at smo.org/teenapprentice.
URL:https://www.sciencemuseumok.org/day/smo-teens-april-2026/
CATEGORIES:Events
ATTACH;FMTTYPE=image/jpeg:https://www.sciencemuseumok.org/wp-content/uploads/Calendar-Graphic.jpg
END:VEVENT
BEGIN:VEVENT
DTSTART;TZID=America/Chicago:20260314T100000
DTEND;TZID=America/Chicago:20260314T150000
DTSTAMP:20260425T140050
CREATED:20260210T180333Z
LAST-MODIFIED:20260210T214815Z
UID:10007892-1773482400-1773500400@www.sciencemuseumok.org
SUMMARY:Storm Safety Day
DESCRIPTION:Storm Safety Day aims to help residents better understand the science of severe weather and how to stay prepared. Science Museum Oklahoma is partnering with KOKH TV FOX25 to host Storm Safety Day on March 14 from 10 a.m. to 3 p.m. \nThis family friendly program focuses on making weather science easy to understand and engaging for all ages. Throughout the day\, guests can take part in hands on activities that explore the forces behind severe weather\, including electricity\, wind\, and air pressure. The event also features special Science Live shows at 11 a.m.\, 1 p.m.\, and 3 p.m.\, led by FOX25 Chief Meteorologist Jack Gerfen\, who will break down how storms form and why preparedness matters. \nStorm Safety Day will also feature information and activity stations from community partners such as the Mesonet\, National Oceanic and Atmospheric Administration\, and the Oklahoma Department of Emergency Management providing valuable resources on how to stay safe during severe weather. \nAll Storm Safety Day activities are included with general admission to Science Museum Oklahoma. Tickets can be purchased at sciencemuseumok.org/tickets.
URL:https://www.sciencemuseumok.org/day/storm-safety-day/
LOCATION:Science Museum Oklahoma\, 2020 Remington Place\, Oklahoma City\, OK\, 73111\, United States
CATEGORIES:Events
ATTACH;FMTTYPE=image/jpeg:https://www.sciencemuseumok.org/wp-content/uploads/Storm-Safety-Day-Calendar-Graphic.jpg
END:VEVENT
BEGIN:VEVENT
DTSTART;VALUE=DATE:20260223
DTEND;VALUE=DATE:20260224
DTSTAMP:20260425T140050
CREATED:20260218T153350Z
LAST-MODIFIED:20260218T153525Z
UID:10007894-1771804800-1771891199@www.sciencemuseumok.org
SUMMARY:Mighty Mouth Reopens
DESCRIPTION:Science Museum Oklahoma is proud to announce the reopening of Mighty Mouth\, one of the museum’s most iconic and beloved exhibitions. The revitalized exhibition was made possible by a generous gift from Delta Dental of Oklahoma and its Foundation and will officially open on Monday\, Feb. 23 with a “floss cutting” at 1 pm. \nOriginally introduced in 1987\, Mighty Mouth has welcomed more than 10 million visitors. It has inspired generations of young scientists to learn about oral health through hands-on exploration. The refreshed Mighty Mouth blends nostalgia with new interactive experiences. Additionally\, it focuses on prevention\, healthy habits and understanding what is happening inside our mouths. \nThe updated Delta Dental Mighty Mouth at Science Museum Oklahoma offers engaging content for all ages. It features a wide range of interactive experiences. For example\, a flossing station\, an interactive smile photo wall\, a mouth washing activity\, a braces station where guests can practice straightening teeth\, and more. Additional highlights include touchscreen interactives\, matching challenges\, and the return of the exhibit’s famous giant teeth. \nTo visit Science Museum Oklahoma and the Delta Dental Mighty Mouth exhibition\, visit sciencemuseumok.org/tickets.
URL:https://www.sciencemuseumok.org/day/mighty-mouth-grand-opening/
CATEGORIES:Events,Updates
ATTACH;FMTTYPE=image/png:https://www.sciencemuseumok.org/wp-content/uploads/Mighty-Mouth-Media-Graphic.png
END:VEVENT
BEGIN:VEVENT
DTSTART;TZID=America/Chicago:20260206T173000
DTEND;TZID=America/Chicago:20260206T203000
DTSTAMP:20260425T140050
CREATED:20250606T164456Z
LAST-MODIFIED:20260116T173220Z
UID:10000170-1770399000-1770409800@www.sciencemuseumok.org
SUMMARY:Member Night
DESCRIPTION:Calling all members\, Member Night is approaching!  It’s time for an exclusive Members-Only Night on February 6. We are opening our doors just for our members for an evening packed with experiments\, exclusive access\, and science-y fun for the whole family. \nWhat to expect: \n• Planetarium mini-shows (15 minutes) at 6:30pm and 7:30pm \n• A special chat with our President and CEO\, Sherry Marshall in Science Live at 6pm \n• Science Live show at 8:00pm \n• 20% off in the Science Shop all night \nPlus\, pop-up activities throughout the museum\, including: \n• Heart dissections \n• Chocolate tasting or molding \n• Science valentines \n• Collections tours \n• Button making \nDon’t want to miss out? Become a member today! \nRegistration is now open. Use your member code at checkout. \nRegister here
URL:https://www.sciencemuseumok.org/day/member-night-2/
LOCATION:Science Museum Oklahoma\, 2020 Remington Place\, Oklahoma City\, OK\, 73111\, United States
CATEGORIES:Events
ATTACH;FMTTYPE=image/png:https://www.sciencemuseumok.org/wp-content/uploads/Calendar-Member-Night-Feb.png
END:VEVENT
BEGIN:VEVENT
DTSTART;TZID=America/Chicago:20260115T100000
DTEND;TZID=America/Chicago:20260115T140000
DTSTAMP:20260425T140050
CREATED:20260102T161949Z
LAST-MODIFIED:20260102T161949Z
UID:10007507-1768471200-1768485600@www.sciencemuseumok.org
SUMMARY:HomeSchool Day
DESCRIPTION:Homeschool families are invited to a special HomeSchool Day featuring hands-on activities and exhibit access designed to support home curriculum\, give unique experiences\, and create community. \nSpecial admission is $10 per person. Children under 2 are free. \nHomeSchool Day Activities Include:\nOptional Eyeball Dissection Lab\nGet hands-on in our Eyeball Dissection Lab for an additional $10 per student covering the cost of supplies. Pre-register to secure your spot as this activity has limited availability. Minimum age is 7. Parents must be present.\nSession 1: 10:30am\nSession 2: 2:00pm \nMagnified Masterpieces\nFrom curving lenses to mighty microscopes\, kids experiment with how different tools magnify\, shrink\, and totally transform what our eyes can see. Then capture the hidden details in a microscope micro-drawing. \nSurvival Science – Why Traits Matter\nFrom camouflage to claws\, kids will uncover the amazing features that help animals survive and thrive in their environments as they design a creature built for a specific habitat. They’ll choose traits that help it hunt\, hide\, move\, or defend itself\, then test what happens when the environment suddenly changes. \nPre-registration is encouraged.
URL:https://www.sciencemuseumok.org/day/homeschool-day/
LOCATION:Science Museum Oklahoma\, 2020 Remington Place\, Oklahoma City\, OK\, 73111\, United States
CATEGORIES:Educators,Events
ATTACH;FMTTYPE=image/png:https://www.sciencemuseumok.org/wp-content/uploads/2026_HomeSchool-Day_Calendar.png
END:VEVENT
BEGIN:VEVENT
DTSTART;TZID=America/Chicago:20251231T090000
DTEND;TZID=America/Chicago:20251231T123000
DTSTAMP:20260425T140050
CREATED:20250606T185844Z
LAST-MODIFIED:20251219T185301Z
UID:10000175-1767171600-1767184200@www.sciencemuseumok.org
SUMMARY:Noon Year's Eve
DESCRIPTION:Science Museum Oklahoma is ringing in New Years with Noon Year’s Eve\, a community tinkering and crafting project that concludes with a homemade float-filled parade. \nThe crafting commences when Science Museum Oklahoma opens on Dec. 31 at 9 a.m. and the parade kicks off just before noon. The Noon Year’s Eve activities are included in the cost of admission to Science Museum Oklahoma.
URL:https://www.sciencemuseumok.org/day/noon-years-eve/
LOCATION:Science Museum Oklahoma\, 2020 Remington Place\, Oklahoma City\, OK\, 73111\, United States
CATEGORIES:Events
ATTACH;FMTTYPE=image/png:https://www.sciencemuseumok.org/wp-content/uploads/Calendar-Noon-Years-Eve.png
END:VEVENT
BEGIN:VEVENT
DTSTART;TZID=America/Chicago:20251106T130000
DTEND;TZID=America/Chicago:20251106T140000
DTSTAMP:20260425T140050
CREATED:20251106T204256Z
LAST-MODIFIED:20251106T204604Z
UID:10006426-1762434000-1762437600@www.sciencemuseumok.org
SUMMARY:Mighty Mouth Closing Ceremony
DESCRIPTION:The museum will host a Mighty Mouth closing ceremony on November 10 at 1 p.m. to honor the Mighty Mouth the public has known and loved since the 1980s. Members of the media are invited to join museum staff\, guests\, and partners as the giant teeth that have delighted millions take one final bow before renovations begin. Renovations are sponsored by Delta Dental of Oklahoma. \nNews | Science Museum Oklahoma
URL:https://www.sciencemuseumok.org/day/mighty-mouth-closing-ceremony/
LOCATION:Science Museum Oklahoma\, 2020 Remington Place\, Oklahoma City\, OK\, 73111\, United States
CATEGORIES:Events
ATTACH;FMTTYPE=image/jpeg:https://www.sciencemuseumok.org/wp-content/uploads/03-21-25-SMO-SBRING-BREAK-113-1-scaled.jpg
END:VEVENT
BEGIN:VEVENT
DTSTART;TZID=America/Chicago:20250927T090000
DTEND;TZID=America/Chicago:20250927T160000
DTSTAMP:20260425T140050
CREATED:20250606T201720Z
LAST-MODIFIED:20250621T003828Z
UID:10000176-1758963600-1758988800@www.sciencemuseumok.org
SUMMARY:Discoverfest (Formerly Tinkerfest)
DESCRIPTION:DiscoverFest is a free\, full-day celebration of creativity\, curiosity\, and hands-on discovery. Held at Science Museum Oklahoma\, this community-powered event invites guests of all ages to build\, create\, invent\, and explore through dozens of interactive experiences. \nGuests can design machines to tinker with art\, engineering\, and raw materials. There’s something to ignite every imagination! With the support of more than 40 community partners\, past DiscoverFests have featured over 70 activities—plus access to the museum’s permanent exhibits. \nWhether you’re a tinkerer\, maker\, artist\, or just curious\, DiscoverFest is a one-of-a-kind experience where science meets creativity and everyone gets to play. \n 
URL:https://www.sciencemuseumok.org/day/discoverfest-formerly-tinkerfest/
LOCATION:Science Museum Oklahoma\, 2020 Remington Place\, Oklahoma City\, OK\, 73111\, United States
CATEGORIES:Events
ATTACH;FMTTYPE=image/png:https://www.sciencemuseumok.org/wp-content/uploads/Calendar-Discoverfest-2025.png
END:VEVENT
BEGIN:VEVENT
DTSTART;TZID=America/Chicago:20250725T180000
DTEND;TZID=America/Chicago:20250725T203000
DTSTAMP:20260425T140050
CREATED:20250606T163007Z
LAST-MODIFIED:20250620T210358Z
UID:10000169-1753466400-1753475400@www.sciencemuseumok.org
SUMMARY:Member Night
DESCRIPTION:Calling all members! It’s time for an exclusive Members-Only Night. We are opening our doors just for you for an evening packed with experiments\, exclusive access\, and science-y fun for the whole family. Reserve your tickets here: https://bit.ly/4bVvcZ2. Enter your membership ID to redeem your free tickets.
URL:https://www.sciencemuseumok.org/day/member-night/
LOCATION:Science Museum Oklahoma\, 2020 Remington Place\, Oklahoma City\, OK\, 73111\, United States
CATEGORIES:Events
ATTACH;FMTTYPE=image/png:https://www.sciencemuseumok.org/wp-content/uploads/Calendar-Graphic-Member-Night-July.png
END:VEVENT
END:VCALENDAR